BEGIN:VCALENDAR
VERSION:2.0
PRODID:-//Sabre//Sabre VObject 4.5.8//EN
CALSCALE:GREGORIAN
BEGIN:VTIMEZONE
TZID:Europe/Zurich
X-LIC-LOCATION:Europe/Zurich
TZURL:http://tzurl.org/zoneinfo/Europe/Zurich
BEGIN:DAYLIGHT
TZOFFSETFROM:+0100
TZOFFSETTO:+0200
TZNAME:CEST
DTSTART:19810329T020000
RRULE:FREQ=YEARLY;BYMONTH=3;BYDAY=-1SU
END:DAYLIGHT
BEGIN:STANDARD
TZOFFSETFROM:+0200
TZOFFSETTO:+0100
TZNAME:CET
DTSTART:19961027T030000
RRULE:FREQ=YEARLY;BYMONTH=10;BYDAY=-1SU
END:STANDARD
END:VTIMEZONE
BEGIN:VEVENT
UID:news519@kulturwissenschaft.philhist.unibas.ch
DTSTAMP;TZID=Europe/Zurich:20260415T121442
DTSTART;TZID=Europe/Zurich:20260423T090000
SUMMARY:Welttag des Buches – Digitale Schnitzeljagd in den Seminarbibliot
 heken 
DESCRIPTION:Zum Welttag des Buches am 23. April 2026 organisieren die vier 
 Bibliotheken Kulturwissenschaft\, Gender Studies\, Religion und Medizin ei
 n Bibliotheks-Foxtrail. Der Foxtrail dauert etwa zwei Stunden und es benö
 tigt dafür ein Smartphone. Der Foxtrail heisst Actionbound. Lade dir die 
 App Actionbound auf Google Play Store gratis runter. Das Spiel startest du
  mit einem QR-Code (siehe PDF). Du kannst dich allein auf die Suche machen
  oder gemeinsam mit Freund*innen. Der Start ist in der Bibliothek am Nadel
 berg 10\, 1. OG.
X-ALT-DESC:<p>Zum Welttag des Buches am 23. April 2026 organisieren die vie
 r Bibliotheken Kulturwissenschaft\, Gender Studies\, Religion und Medizin 
 ein Bibliotheks-Foxtrail. Der Foxtrail dauert etwa zwei Stunden und es ben
 ötigt dafür ein Smartphone. Der Foxtrail heisst <i>Actionbound</i>. Lade
  dir die App Actionbound auf Google Play Store gratis runter. Das Spiel st
 artest du mit einem QR-Code (siehe PDF). Du kannst dich allein auf die Suc
 he machen oder gemeinsam mit Freund*innen. Der Start ist in der Bibliothek
  am Nadelberg 10\, 1. OG.</p>\n\n\n
DTEND;TZID=Europe/Zurich:20260423T170000
END:VEVENT
END:VCALENDAR
