BEGIN:VCALENDAR
VERSION:2.0
PRODID:-//Sabre//Sabre VObject 4.5.8//EN
CALSCALE:GREGORIAN
BEGIN:VTIMEZONE
TZID:Europe/Zurich
X-LIC-LOCATION:Europe/Zurich
TZURL:http://tzurl.org/zoneinfo/Europe/Zurich
BEGIN:DAYLIGHT
TZOFFSETFROM:+0100
TZOFFSETTO:+0200
TZNAME:CEST
DTSTART:19810329T020000
RRULE:FREQ=YEARLY;BYMONTH=3;BYDAY=-1SU
END:DAYLIGHT
BEGIN:STANDARD
TZOFFSETFROM:+0200
TZOFFSETTO:+0100
TZNAME:CET
DTSTART:19961027T030000
RRULE:FREQ=YEARLY;BYMONTH=10;BYDAY=-1SU
END:STANDARD
END:VTIMEZONE
BEGIN:VEVENT
UID:news518@kulturwissenschaft.philhist.unibas.ch
DTSTAMP;TZID=Europe/Zurich:20260415T120839
DTSTART;TZID=Europe/Zurich:20260519T120000
SUMMARY:Endlich fertig schreiben?!
DESCRIPTION:Wir treffen uns am 19.05. über den Mittag für einen kurzen In
 put mit anschliessender offener Runde. Kommt vorbei\, egal ob mit eurer Pr
 oseminar-\, Seminar- oder Masterarbeit oder einem Essay-Hindernis. 
X-ALT-DESC:<p>Wir treffen uns am 19.05. über den Mittag für einen kurzen 
 Input mit anschliessender offener Runde. Kommt vorbei\, egal ob mit eurer 
 Proseminar-\, Seminar- oder Masterarbeit oder einem Essay-Hindernis.&nbsp\
 ;</p>
DTEND;TZID=Europe/Zurich:20260519T133000
END:VEVENT
END:VCALENDAR
