BEGIN:VCALENDAR
VERSION:2.0
PRODID:-//Sabre//Sabre VObject 4.5.8//EN
CALSCALE:GREGORIAN
BEGIN:VTIMEZONE
TZID:Europe/Zurich
X-LIC-LOCATION:Europe/Zurich
TZURL:http://tzurl.org/zoneinfo/Europe/Zurich
BEGIN:DAYLIGHT
TZOFFSETFROM:+0100
TZOFFSETTO:+0200
TZNAME:CEST
DTSTART:19810329T020000
RRULE:FREQ=YEARLY;BYMONTH=3;BYDAY=-1SU
END:DAYLIGHT
BEGIN:STANDARD
TZOFFSETFROM:+0200
TZOFFSETTO:+0100
TZNAME:CET
DTSTART:19961027T030000
RRULE:FREQ=YEARLY;BYMONTH=10;BYDAY=-1SU
END:STANDARD
END:VTIMEZONE
BEGIN:VEVENT
UID:news517@kulturwissenschaft.philhist.unibas.ch
DTSTAMP;TZID=Europe/Zurich:20260414T155903
DTSTART;TZID=Europe/Zurich:20260421T101500
SUMMARY:Dr. Kathrin Eitel: Vortrag zum Thema "Environmental Science & Techn
 ology Studies" 
DESCRIPTION:Kathrin Eitel ist Kulturanthropologin und derzeit Oberassistent
 in am Institut für Sozialanthropologie und Empirische Kulturwissenschaft 
 (ISEK). Sie ist u.a. Herausgeberin des Buchs “Klimageschichten. Planet\,
  Krise\, Fiction” — mehr Informationen finden Sie auf ihrer Website: w
 ww.kathrineitel.com [https://www.kathrineitel.com].  
X-ALT-DESC:<p>Kathrin Eitel ist Kulturanthropologin und derzeit Oberassiste
 ntin am Institut für Sozialanthropologie und Empirische Kulturwissenschaf
 t (ISEK). Sie ist u.a. Herausgeberin des Buchs “Klimageschichten. Planet
 \, Krise\, Fiction” — mehr Informationen finden Sie auf ihrer Website:
  <a href="https://www.kathrineitel.com" target="_blank">www.kathrineitel.c
 om</a>. &nbsp\;</p>
DTEND;TZID=Europe/Zurich:20260421T120000
END:VEVENT
END:VCALENDAR
