BEGIN:VCALENDAR
VERSION:2.0
PRODID:-//Sabre//Sabre VObject 4.5.8//EN
CALSCALE:GREGORIAN
BEGIN:VTIMEZONE
TZID:Europe/Zurich
X-LIC-LOCATION:Europe/Zurich
TZURL:http://tzurl.org/zoneinfo/Europe/Zurich
BEGIN:DAYLIGHT
TZOFFSETFROM:+0100
TZOFFSETTO:+0200
TZNAME:CEST
DTSTART:19810329T020000
RRULE:FREQ=YEARLY;BYMONTH=3;BYDAY=-1SU
END:DAYLIGHT
BEGIN:STANDARD
TZOFFSETFROM:+0200
TZOFFSETTO:+0100
TZNAME:CET
DTSTART:19961027T030000
RRULE:FREQ=YEARLY;BYMONTH=10;BYDAY=-1SU
END:STANDARD
END:VTIMEZONE
BEGIN:VEVENT
UID:news520@kulturwissenschaft.philhist.unibas.ch
DTSTAMP;TZID=Europe/Zurich:20260422T190532
DTSTART;TZID=Europe/Zurich:20260428T101500
SUMMARY:Dr. Alexandra Hofmänner: Vortrag zum Thema "Postkoloniale Science 
 & Technology Studies"
DESCRIPTION:Alexandra Hofmänner ist Soziologin mit einem Schwerpunkt in Sc
 ience and Technology Studies sowie derzeit Privatdozentin im Fachbereich S
 oziologie an der Universität Basel.
X-ALT-DESC:<p>Alexandra Hofmänner ist Soziologin mit einem Schwerpunkt in 
 Science and Technology Studies sowie derzeit Privatdozentin im Fachbereich
  Soziologie an der Universität Basel.</p>
DTEND;TZID=Europe/Zurich:20260428T120000
END:VEVENT
END:VCALENDAR
